BEGIN:VCALENDAR
VERSION:2.0
PRODID:-//ChamberMaster//Event Calendar 2.0//EN
METHOD:PUBLISH
X-PUBLISHED-TTL:P3D
REFRESH-INTERVAL:P3D
CALSCALE:GREGORIAN
BEGIN:VEVENT
DTSTART:20260422T183000Z
DTEND:20260422T203000Z
X-MICROSOFT-CDO-ALLDAYEVENT:FALSE
SUMMARY:Vernon Chamber's 76th Annual Installation & Awards Luncheon
DESCRIPTION:Vernon Chamber's 76th Annual Board Installation & Awards Luncheon \n\nKeynote speaker:  Jeff Prang\, Los Angeles County Assessor\n\n                            "The State of County Assessor"\n\n                            An Update on LA Fires\, Property Values\, Insight on Tax Relief\, Transfer of Properties\,                         \n\n                            Ceremony:  Vernon Business Leaders Installed as Chamber Board of Directors\n\n\n\nJoin Vernon industry leaders and guests to hear the latest update on the Los Angeles fires\, relief bill legislation\, \n\n\n\nThe flagship event attracts more than 150 major employers and business leaders in Vernon\, members/prospective members who conduct business in the City\, elected officials and community leaders.
X-ALT-DESC;FMTTYPE=text/html:Vernon Chamber&#39\;s 76th Annual Board Installation &amp\; Awards Luncheon&nbsp\;<br />\nKeynote speaker:&nbsp\; Jeff Prang\, Los Angeles County Assessor<br />\n&nbsp\;&nbsp\;&nbsp\;&nbsp\;&nbsp\;&nbsp\;&nbsp\;&nbsp\;&nbsp\;&nbsp\;&nbsp\;&nbsp\;&nbsp\;&nbsp\;&nbsp\;&nbsp\;&nbsp\;&nbsp\;&nbsp\;&nbsp\;&nbsp\;&nbsp\;&nbsp\;&nbsp\;&nbsp\; &nbsp\; &quot\;The State of County Assessor&quot\;<br />\n&nbsp\;&nbsp\;&nbsp\;&nbsp\;&nbsp\;&nbsp\;&nbsp\;&nbsp\;&nbsp\;&nbsp\;&nbsp\;&nbsp\;&nbsp\;&nbsp\;&nbsp\;&nbsp\;&nbsp\;&nbsp\;&nbsp\;&nbsp\;&nbsp\;&nbsp\;&nbsp\;&nbsp\;&nbsp\; &nbsp\; An Update on LA Fires\, Property Values\, Insight on Tax Relief\, Transfer of Properties\,&nbsp\;&nbsp\; &nbsp\; &nbsp\; &nbsp\; &nbsp\; &nbsp\; &nbsp\; &nbsp\; &nbsp\; &nbsp\; &nbsp\; &nbsp\;&nbsp\;<br />\n&nbsp\;&nbsp\;&nbsp\;&nbsp\;&nbsp\;&nbsp\;&nbsp\;&nbsp\;&nbsp\;&nbsp\;&nbsp\;&nbsp\;&nbsp\;&nbsp\;&nbsp\;&nbsp\;&nbsp\;&nbsp\;&nbsp\;&nbsp\;&nbsp\;&nbsp\;&nbsp\;&nbsp\;&nbsp\;&nbsp\;&nbsp\;&nbsp\;Ceremony:&nbsp\; Vernon Business Leaders Installed as Chamber Board of Directors<br />\n<br />\n<span style="color: rgb(51\, 51\, 51)\; font-family: sans-serif\, Arial\, Verdana\, &quot\;Trebuchet MS&quot\;\; font-size: 13px\; background-color: rgb(255\, 255\, 255)\;">Join Vernon industry leaders and guests to hear the latest update on the Los Angeles fires\, relief bill legislation\,&nbsp\;</span><br />\n<br />\nThe flagship event attracts more than 150 major employers and business leaders in Vernon\, members/prospective members who conduct business in the City\, elected officials and community leaders.&nbsp\;&nbsp\;
LOCATION:DOUBLETREE by Hilton Hotel 5757 Telegraph Road Commerce\, CA 90040
UID:e.3238.935
SEQUENCE:3
DTSTAMP:20260421T010819Z
URL:https://business.vernonchamber.org/events/details/vernon-chamber-s-76th-annual-installation-awards-luncheon-935
END:VEVENT

END:VCALENDAR
